BEGIN:VCALENDAR
VERSION:2.0
PRODID:-//Squarespace Inc/Squarespace 6//v6//EN
BEGIN:VEVENT
UID:5e2a53e0e7f6da189c05aeb6@squarespace.com
DTSTAMP:20200124T024829Z
DTSTART:20200218T143000Z
DTEND:20200218T153000Z
SUMMARY:18 Feb 2020 - Claire &amp\; Paul - Talk &amp\; Tour (1 Hour)
END:VEVENT
END:VCALENDAR
