BEGIN:VCALENDAR
VERSION:2.0
PRODID:-//Squarespace Inc/Squarespace 6//v6//EN
BEGIN:VEVENT
UID:5e2a57ffcf311b15c0ed8431@squarespace.com
DTSTAMP:20200124T023751Z
DTSTART:20200220T140000Z
DTEND:20200220T150000Z
SUMMARY:20 Feb 2020 - Claire &amp\; Paul - Talk &amp\; Tour (1 Hour)
END:VEVENT
END:VCALENDAR
